BEGIN:VCALENDAR
VERSION:2.0
PRODID:-//Varsinais-Suomen vihreät - ECPv6.15.20//NONSGML v1.0//EN
CALSCALE:GREGORIAN
METHOD:PUBLISH
X-WR-CALNAME:Varsinais-Suomen vihreät
X-ORIGINAL-URL:https://varsinaissuomenvihreat.fi
X-WR-CALDESC:Tapahtumat Varsinais-Suomen vihreät
REFRESH-INTERVAL;VALUE=DURATION:PT1H
X-Robots-Tag:noindex
X-PUBLISHED-TTL:PT1H
BEGIN:VTIMEZONE
TZID:Europe/Helsinki
BEGIN:DAYLIGHT
TZOFFSETFROM:+0200
TZOFFSETTO:+0300
TZNAME:EEST
DTSTART:20240331T010000
END:DAYLIGHT
BEGIN:STANDARD
TZOFFSETFROM:+0300
TZOFFSETTO:+0200
TZNAME:EET
DTSTART:20241027T010000
END:STANDARD
BEGIN:DAYLIGHT
TZOFFSETFROM:+0200
TZOFFSETTO:+0300
TZNAME:EEST
DTSTART:20250330T010000
END:DAYLIGHT
BEGIN:STANDARD
TZOFFSETFROM:+0300
TZOFFSETTO:+0200
TZNAME:EET
DTSTART:20251026T010000
END:STANDARD
BEGIN:DAYLIGHT
TZOFFSETFROM:+0200
TZOFFSETTO:+0300
TZNAME:EEST
DTSTART:20260329T010000
END:DAYLIGHT
BEGIN:STANDARD
TZOFFSETFROM:+0300
TZOFFSETTO:+0200
TZNAME:EET
DTSTART:20261025T010000
END:STANDARD
END:VTIMEZONE
BEGIN:VEVENT
DTSTART;TZID=Europe/Helsinki:20251213T150000
DTEND;TZID=Europe/Helsinki:20251213T220000
DTSTAMP:20260425T024821
CREATED:20250917T093114Z
LAST-MODIFIED:20251111T135316Z
UID:28866-1765638000-1765663200@varsinaissuomenvihreat.fi
SUMMARY:Syyskokous ja pikkujoulut
DESCRIPTION:Syyskokous klo 15. Asialistalla sääntömääräiset asiat\, mm. piirihallituksen valinta seuraavalle kaksivuotiskaudelle. Hae piirin hallitukseen! \nPikkujoulut klo 18 \nPaikka Raision kaupungintalo\, Nallinkatu 2
URL:https://varsinaissuomenvihreat.fi/tapahtuma/syyskokous-ja-pikkujoulut/
LOCATION:Raision kaupungintalo\, Nallinkatu 2\, Raisio\, Finland
END:VEVENT
END:VCALENDAR