BEGIN:VCALENDAR
VERSION:2.0
PRODID:-//Varsinais-Suomen vihreät - ECPv6.15.20//NONSGML v1.0//EN
CALSCALE:GREGORIAN
METHOD:PUBLISH
X-WR-CALNAME:Varsinais-Suomen vihreät
X-ORIGINAL-URL:https://varsinaissuomenvihreat.fi
X-WR-CALDESC:Tapahtumat Varsinais-Suomen vihreät
REFRESH-INTERVAL;VALUE=DURATION:PT1H
X-Robots-Tag:noindex
X-PUBLISHED-TTL:PT1H
BEGIN:VTIMEZONE
TZID:Europe/Helsinki
BEGIN:DAYLIGHT
TZOFFSETFROM:+0200
TZOFFSETTO:+0300
TZNAME:EEST
DTSTART:20240331T010000
END:DAYLIGHT
BEGIN:STANDARD
TZOFFSETFROM:+0300
TZOFFSETTO:+0200
TZNAME:EET
DTSTART:20241027T010000
END:STANDARD
BEGIN:DAYLIGHT
TZOFFSETFROM:+0200
TZOFFSETTO:+0300
TZNAME:EEST
DTSTART:20250330T010000
END:DAYLIGHT
BEGIN:STANDARD
TZOFFSETFROM:+0300
TZOFFSETTO:+0200
TZNAME:EET
DTSTART:20251026T010000
END:STANDARD
BEGIN:DAYLIGHT
TZOFFSETFROM:+0200
TZOFFSETTO:+0300
TZNAME:EEST
DTSTART:20260329T010000
END:DAYLIGHT
BEGIN:STANDARD
TZOFFSETFROM:+0300
TZOFFSETTO:+0200
TZNAME:EET
DTSTART:20261025T010000
END:STANDARD
END:VTIMEZONE
BEGIN:VEVENT
DTSTART;TZID=Europe/Helsinki:20250929T180000
DTEND;TZID=Europe/Helsinki:20250929T200000
DTSTAMP:20260425T053420
CREATED:20250924T122939Z
LAST-MODIFIED:20250924T144242Z
UID:28883-1759168800-1759176000@varsinaissuomenvihreat.fi
SUMMARY:Vihreä kuppilakiertue Maskussa Askaisten Holvissa
DESCRIPTION:Tule kupposelle keskustelemaan vihreiden aktiivien ja aluevaltuutettujen kanssa Varhan tilanteesta ja tulevaisuudesta sekä muista ajankohtaisista paikallisista aiheista. \nTeemme Varsinais-Suomen vihreiden kuppilakiertuetta eri kohteissa. Kutsumme tapahtumiin osallistujia lähikunnista\, jotta voimme keskustella paikallisista poliittisista asioista. Tapahtumiin tulee aluevaltuutettuja\, joten tämä on myös hyvä hetki vaihtaa ajatuksia aluevaltuustoryhmän kanssa. \nKierroksen tapahtumat\nma 29.9. klo 18–20\, Maskussa\, Askaisten Holvissa\, Askaistentie 751\nti 14.10. klo 18–20\, Salossa\, Teijon kansallispuiston luontokeskuksessa\, Matildanjärventie 84\nti 11.11. klo 17–21\, Yläneellä\, Luontokapinetissa\, Hovilanmäentie 2. Sisältää kierroksen Luontokapinetissa. \n  \n 
URL:https://varsinaissuomenvihreat.fi/tapahtuma/vihrea-kuppilakiertue-maskussa/
LOCATION:Askaisten Holvi\, Askaistentie 751\, Masku\, Askaistentie 751\, Masku\, Finland
END:VEVENT
END:VCALENDAR