BEGIN:VCALENDAR
VERSION:2.0
PRODID:-//Varsinais-Suomen vihreät - ECPv6.15.20//NONSGML v1.0//EN
CALSCALE:GREGORIAN
METHOD:PUBLISH
X-ORIGINAL-URL:https://varsinaissuomenvihreat.fi
X-WR-CALDESC:Tapahtumat Varsinais-Suomen vihreät
REFRESH-INTERVAL;VALUE=DURATION:PT1H
X-Robots-Tag:noindex
X-PUBLISHED-TTL:PT1H
BEGIN:VTIMEZONE
TZID:Europe/Helsinki
BEGIN:DAYLIGHT
TZOFFSETFROM:+0200
TZOFFSETTO:+0300
TZNAME:EEST
DTSTART:20220327T010000
END:DAYLIGHT
BEGIN:STANDARD
TZOFFSETFROM:+0300
TZOFFSETTO:+0200
TZNAME:EET
DTSTART:20221030T010000
END:STANDARD
BEGIN:DAYLIGHT
TZOFFSETFROM:+0200
TZOFFSETTO:+0300
TZNAME:EEST
DTSTART:20230326T010000
END:DAYLIGHT
BEGIN:STANDARD
TZOFFSETFROM:+0300
TZOFFSETTO:+0200
TZNAME:EET
DTSTART:20231029T010000
END:STANDARD
BEGIN:DAYLIGHT
TZOFFSETFROM:+0200
TZOFFSETTO:+0300
TZNAME:EEST
DTSTART:20240331T010000
END:DAYLIGHT
BEGIN:STANDARD
TZOFFSETFROM:+0300
TZOFFSETTO:+0200
TZNAME:EET
DTSTART:20241027T010000
END:STANDARD
BEGIN:DAYLIGHT
TZOFFSETFROM:+0200
TZOFFSETTO:+0300
TZNAME:EEST
DTSTART:20250330T010000
END:DAYLIGHT
BEGIN:STANDARD
TZOFFSETFROM:+0300
TZOFFSETTO:+0200
TZNAME:EET
DTSTART:20251026T010000
END:STANDARD
BEGIN:DAYLIGHT
TZOFFSETFROM:+0200
TZOFFSETTO:+0300
TZNAME:EEST
DTSTART:20260329T010000
END:DAYLIGHT
BEGIN:STANDARD
TZOFFSETFROM:+0300
TZOFFSETTO:+0200
TZNAME:EET
DTSTART:20261025T010000
END:STANDARD
BEGIN:DAYLIGHT
TZOFFSETFROM:+0200
TZOFFSETTO:+0300
TZNAME:EEST
DTSTART:20270328T010000
END:DAYLIGHT
BEGIN:STANDARD
TZOFFSETFROM:+0300
TZOFFSETTO:+0200
TZNAME:EET
DTSTART:20271031T010000
END:STANDARD
END:VTIMEZONE
BEGIN:VEVENT
DTSTART;TZID=Europe/Helsinki:20260418T110000
DTEND;TZID=Europe/Helsinki:20260418T130000
DTSTAMP:20260424T230232
CREATED:20260108T151119Z
LAST-MODIFIED:20260305T134247Z
UID:29042-1776510000-1776517200@varsinaissuomenvihreat.fi
SUMMARY:Varsinais-Suomen vihreiden kevätkokous
DESCRIPTION:Naantalin kaupungintalossa\, Käsityöläiskatu 2\, Naantali \nPiirin sääntömääräisessä kevätkokouksessa päätetään sääntömääräisistä ja puoluekokoukseen liittyvistä asioista sekä eduskuntavaaliehdokkaiden asettamisesta. Tervetuloa. \nIlmoittautuminen ja valtakirja: Jäsenyhdistyksen edustajien nimet pitää ilmoittaa yhdistyksen puheenjohtajan lähettämänä sähköpostina osoitteeseen varsinais-suomi@vihreat.fi. Tämä menettely vastaa perinteistä valtakirjaa. Ilmoittautumiset toivotaan käytännön syistä torstaihin 16.4.2026 mennessä. \nVirallinen kokouskutsu ja esityslista lähetetään piirin jäsenyhdistyksille maaliskuun loppupuolella.
URL:https://varsinaissuomenvihreat.fi/tapahtuma/varsinais-suomen-vihreiden-kevatkokous-3/
LOCATION:Naantalin kaupungintalo\, Käsityöläiskatu 2\, Naantali\, Finland
END:VEVENT
BEGIN:VEVENT
DTSTART;TZID=Europe/Helsinki:20251213T150000
DTEND;TZID=Europe/Helsinki:20251213T220000
DTSTAMP:20260424T230232
CREATED:20250917T093114Z
LAST-MODIFIED:20251111T135316Z
UID:28866-1765638000-1765663200@varsinaissuomenvihreat.fi
SUMMARY:Syyskokous ja pikkujoulut
DESCRIPTION:Syyskokous klo 15. Asialistalla sääntömääräiset asiat\, mm. piirihallituksen valinta seuraavalle kaksivuotiskaudelle. Hae piirin hallitukseen! \nPikkujoulut klo 18 \nPaikka Raision kaupungintalo\, Nallinkatu 2
URL:https://varsinaissuomenvihreat.fi/tapahtuma/syyskokous-ja-pikkujoulut/
LOCATION:Raision kaupungintalo\, Nallinkatu 2\, Raisio\, Finland
END:VEVENT
BEGIN:VEVENT
DTSTART;TZID=Europe/Helsinki:20251111T170000
DTEND;TZID=Europe/Helsinki:20251111T210000
DTSTAMP:20260424T230232
CREATED:20250924T123350Z
LAST-MODIFIED:20250924T144212Z
UID:28889-1762880400-1762894800@varsinaissuomenvihreat.fi
SUMMARY:Vihreä kuppilakiertue Yläneellä Luontokapinetissa
DESCRIPTION:Tule kupposelle keskustelemaan vihreiden aktiivien ja aluevaltuutettujen kanssa Varhan tilanteesta ja tulevaisuudesta sekä muista ajankohtaisista paikallisista aiheista. \nTeemme Varsinais-Suomen vihreiden kuppilakiertuetta eri kohteissa. Kutsumme tapahtumiin osallistujia lähikunnista\, jotta voimme keskustella paikallisista poliittisista asioista. Tapahtumiin tulee aluevaltuutettuja\, joten tämä on myös hyvä hetki vaihtaa ajatuksia aluevaltuustoryhmän kanssa. \nKiertueen tapahtumat\nma 29.9. klo 18–20\, Maskussa\, Askaisten Holvissa\, Askaistentie 751\nti 14.10. klo 18–20\, Salossa\, Teijon kansallispuiston luontokeskuksessa\, Matildanjärventie 84\nti 11.11. klo 17–21\, Yläneellä\, Luontokapinetissa\, Hovilanmäentie 2. Sisältää kierroksen Luontokapinetissa.
URL:https://varsinaissuomenvihreat.fi/tapahtuma/vihrea-kuppilakiertue-ylaneella/
LOCATION:Luontokapinetti\, Hovilanmäentie 2\, Pöytyä\, Finland
END:VEVENT
BEGIN:VEVENT
DTSTART;TZID=Europe/Helsinki:20251014T180000
DTEND;TZID=Europe/Helsinki:20251014T193000
DTSTAMP:20260424T230232
CREATED:20251013T121434Z
LAST-MODIFIED:20251013T121434Z
UID:28924-1760464800-1760470200@varsinaissuomenvihreat.fi
SUMMARY:Vihreä kuppilakiertue Salossa - keskustelu Asemakahvilassa
DESCRIPTION:Tule kupposelle keskustelemaan vihreiden aktiivien ja aluevaltuutettujen kanssa Varhan tilanteesta ja tulevaisuudesta sekä muista ajankohtaisista paikallisista aiheista. \nTeemme Varsinais-Suomen vihreiden kuppilakiertuetta eri kohteissa. Kutsumme tapahtumiin osallistujia lähikunnista\, jotta voimme keskustella paikallisista poliittisista asioista. Tapahtumiin tulee aluevaltuutettuja\, joten tämä on myös hyvä hetki vaihtaa ajatuksia aluevaltuustoryhmän kanssa. \nHuomaa Salon keskustelun siirtyminen Asemakahvilaan! \nti 14.10. klo 16.30-17.30 Salossa kävelyretki Teijon kansallispuiston parkkipaikalta\, Matildanjärventie 104 ja keskustelu klo 18.00-19.30 Salossa\, Asemakahvilassa\, Asemakatu 2 \nti 11.11. klo 17–21\, Yläneellä\, Luontokapinetissa\, Hovilanmäentie 2. Sisältää kierroksen Luontokapinetissa.
URL:https://varsinaissuomenvihreat.fi/tapahtuma/vihrea-kuppilakiertue-salossa-keskustelu-asemakahvilassa/
LOCATION:Asemakahvila\, Salo\, Asemakatu 2\, Salo\, Finland
END:VEVENT
BEGIN:VEVENT
DTSTART;TZID=Europe/Helsinki:20251014T163000
DTEND;TZID=Europe/Helsinki:20251014T173000
DTSTAMP:20260424T230232
CREATED:20250924T123127Z
LAST-MODIFIED:20251013T121131Z
UID:28886-1760459400-1760463000@varsinaissuomenvihreat.fi
SUMMARY:Vihreä kuppilakiertue Salossa - kävelyretki Teijon kansallispuistossa
DESCRIPTION:ti 14.10. klo 16.30-17.30 Salossa kävelyretki Teijon kansallispuiston parkkipaikalta\, Matildanjärventie 104 \nkeskustelu klo 18.00-19.30 Salossa\, Asemakahvilassa\, Asemakatu 2 \nTule kupposelle keskustelemaan vihreiden aktiivien ja aluevaltuutettujen kanssa Varhan tilanteesta ja tulevaisuudesta sekä muista ajankohtaisista paikallisista aiheista. \nTeemme Varsinais-Suomen vihreiden kuppilakiertuetta eri kohteissa. Kutsumme tapahtumiin osallistujia lähikunnista\, jotta voimme keskustella paikallisista poliittisista asioista. Tapahtumiin tulee aluevaltuutettuja\, joten tämä on myös hyvä hetki vaihtaa ajatuksia aluevaltuustoryhmän kanssa. \nKierroksen tulevat tapahtumat\nti 11.11. klo 17–21\, Yläneellä\, Luontokapinetissa\, Hovilanmäentie 2. Sisältää kierroksen Luontokapinetissa. \n  \n 
URL:https://varsinaissuomenvihreat.fi/tapahtuma/vihrea-kuppilakiertue-salon-teijossa/
LOCATION:Teijon kansallispuisto\, Matildanjärventie 104\, Salo\, Finland
END:VEVENT
BEGIN:VEVENT
DTSTART;TZID=Europe/Helsinki:20250929T180000
DTEND;TZID=Europe/Helsinki:20250929T200000
DTSTAMP:20260424T230232
CREATED:20250924T122939Z
LAST-MODIFIED:20250924T144242Z
UID:28883-1759168800-1759176000@varsinaissuomenvihreat.fi
SUMMARY:Vihreä kuppilakiertue Maskussa Askaisten Holvissa
DESCRIPTION:Tule kupposelle keskustelemaan vihreiden aktiivien ja aluevaltuutettujen kanssa Varhan tilanteesta ja tulevaisuudesta sekä muista ajankohtaisista paikallisista aiheista. \nTeemme Varsinais-Suomen vihreiden kuppilakiertuetta eri kohteissa. Kutsumme tapahtumiin osallistujia lähikunnista\, jotta voimme keskustella paikallisista poliittisista asioista. Tapahtumiin tulee aluevaltuutettuja\, joten tämä on myös hyvä hetki vaihtaa ajatuksia aluevaltuustoryhmän kanssa. \nKierroksen tapahtumat\nma 29.9. klo 18–20\, Maskussa\, Askaisten Holvissa\, Askaistentie 751\nti 14.10. klo 18–20\, Salossa\, Teijon kansallispuiston luontokeskuksessa\, Matildanjärventie 84\nti 11.11. klo 17–21\, Yläneellä\, Luontokapinetissa\, Hovilanmäentie 2. Sisältää kierroksen Luontokapinetissa. \n  \n 
URL:https://varsinaissuomenvihreat.fi/tapahtuma/vihrea-kuppilakiertue-maskussa/
LOCATION:Askaisten Holvi\, Askaistentie 751\, Masku\, Askaistentie 751\, Masku\, Finland
END:VEVENT
BEGIN:VEVENT
DTSTART;TZID=Europe/Helsinki:20250413T090000
DTEND;TZID=Europe/Helsinki:20250413T200000
DTSTAMP:20260424T230232
CREATED:20240611T164123Z
LAST-MODIFIED:20240611T164123Z
UID:28736-1744534800-1744574400@varsinaissuomenvihreat.fi
SUMMARY:Kunta- ja aluevaalit 2025
DESCRIPTION:Varsinainen vaalipäivä
URL:https://varsinaissuomenvihreat.fi/tapahtuma/kunta-ja-aluevaalit-2025/
END:VEVENT
BEGIN:VEVENT
DTSTART;TZID=Europe/Helsinki:20241214T140000
DTEND;TZID=Europe/Helsinki:20241214T213000
DTSTAMP:20260424T230232
CREATED:20241128T150042Z
LAST-MODIFIED:20241211T135332Z
UID:28787-1734184800-1734211800@varsinaissuomenvihreat.fi
SUMMARY:Varsinais-Suomen vihreiden syyskokous ja pikkujoulut
DESCRIPTION:Piirin sääntömääräisessä syyskokouksessa klo 14.00 alkaen päätetään sääntömääräisistä asioista. \nPikkujoulut klo 16 alkaen. Luvassa on rentoa ohjelmaa ja aktiivien palkitsemista. Mukaan: illanviettomieltä\, saunomisvälineet\, omia juomia ja pelejä joita haluaisit pelata muiden vihreiden kanssa. Varsinainen pikkujoulukutsu ja ilmoittautumislinkki on toimitettu sähköpostitse piirin jäsenyhdistysten jäsenille.
URL:https://varsinaissuomenvihreat.fi/tapahtuma/varsinais-suomen-vihreiden-syyskokous-2/
LOCATION:Yhteisötalo Lounatuulet\, Läntinen Pitkäkatu 31\, Turku\, 20100\, Finland
END:VEVENT
BEGIN:VEVENT
DTSTART;TZID=Europe/Helsinki:20241125T180000
DTEND;TZID=Europe/Helsinki:20241125T193000
DTSTAMP:20260424T230232
CREATED:20241112T150829Z
LAST-MODIFIED:20241112T150829Z
UID:28777-1732557600-1732563000@varsinaissuomenvihreat.fi
SUMMARY:Hyvinvointialue nyt ja tulevaisuudessa - vihreän aluevaltuustoryhmän foorumi
DESCRIPTION:Tule keskustelemaan ja kuulemaan ajankohtaiset kuulumiset ja vihreät näkemykset hyvinvointialueen tilanteesta\, sen nykyhetkestä ja tulevaisuudesta. \nMukana vihreiden aluevaltuustoryhmästä ovat Heidi Aaltonen\, Janina Andersson\, Konsta Nylander\, Elina Rantanen\, Aliisa Wahlsten\, Hanna Erjanti\, Essi Lindberg\, Janna-Riia Koivu ja Selinä Nera.
URL:https://varsinaissuomenvihreat.fi/tapahtuma/hyvinvointialue-nyt-ja-tulevaisuudessa-vihrean-aluevaltuustoryhman-foorumi/
LOCATION:Turun pääkirjasto\, Linnankatu 2\, Turku\, 20100\, Suomi
END:VEVENT
BEGIN:VEVENT
DTSTART;TZID=Europe/Helsinki:20240609T190000
DTEND;TZID=Europe/Helsinki:20240609T230000
DTSTAMP:20260424T230232
CREATED:20240528T110741Z
LAST-MODIFIED:20240528T140315Z
UID:28721-1717959600-1717974000@varsinaissuomenvihreat.fi
SUMMARY:Eurovaalivalvojaiset
DESCRIPTION:Tervetuloa jännittämään eurovaalien tuloksia Bar Ö:hön vihreässä seurassa sunnuntaina 9.6. klo 19 alkaen! \nEnnakkoäänet julkistetaan klo 20 ja laskenta etenee siitä pitkin iltaa. Lopullisten tulosten pitäisi olla selvillä kymmenen aikoihin. Tule mukaan seuraamaan\, ketkä pääsevät Brysseliin! \nTapahtuma on K18. Tilan esteettömyystiedot löydät täältä: https://oebar.fi/ \nTervetuloa! \nhttps://www.facebook.com/events/1441047513441518/
URL:https://varsinaissuomenvihreat.fi/tapahtuma/eurovaalivalvojaiset/
LOCATION:Bar Ö\, Linnankatu 7\, Turku\, Western Finland\, 20100\, Suomi
END:VEVENT
BEGIN:VEVENT
DTSTART;TZID=Europe/Helsinki:20240420T110000
DTEND;TZID=Europe/Helsinki:20240420T130000
DTSTAMP:20260424T230232
CREATED:20240321T104535Z
LAST-MODIFIED:20240321T104535Z
UID:28698-1713610800-1713618000@varsinaissuomenvihreat.fi
SUMMARY:Varsinais-Suomen vihreiden kevätkokous
DESCRIPTION:Piirin sääntömääräisessä kevätkokouksessa päätetään sääntömääräisistä ja puoluekokoukseen liittyvistä asioista.
URL:https://varsinaissuomenvihreat.fi/tapahtuma/varsinais-suomen-vihreiden-kevatkokous-2/
LOCATION:Turku-sali\, Rehtorinpellonkatu 4 A\, Turku\, Western Finland\, 20100\, Suomi
END:VEVENT
BEGIN:VEVENT
DTSTART;TZID=Europe/Helsinki:20231202T110000
DTEND;TZID=Europe/Helsinki:20231202T150000
DTSTAMP:20260424T230232
CREATED:20231018T122159Z
LAST-MODIFIED:20231110T132457Z
UID:28655-1701514800-1701529200@varsinaissuomenvihreat.fi
SUMMARY:Varsinais-Suomen vihreiden syyskokous
DESCRIPTION:Varsinais-Suomen vihreiden sääntömääräinen syyskokous klo 11.00-13.00. \nKokouksen jälkeen klo 13-15 on ohjelmassa infoa ja keskustelua mm. aluevaltuuston asioista\, puolueen strategiasta ja ensi kevään presidentin- ja eurovaaleista. Ennen kokousta klo 10.30 tarjotaan aamukahvit kokouspaikan aulassa. \nFacebook-tapahtuma: https://www.facebook.com/events/891021789030495
URL:https://varsinaissuomenvihreat.fi/tapahtuma/varsinais-suomen-vihreiden-syyskokous/
LOCATION:Kurittulan koulu\, Masku\, Koulukuja 1\, Masku\, Suomi
END:VEVENT
BEGIN:VEVENT
DTSTART;TZID=Europe/Helsinki:20230422T120000
DTEND;TZID=Europe/Helsinki:20230422T150000
DTSTAMP:20260424T230232
CREATED:20230419T133631Z
LAST-MODIFIED:20230419T133631Z
UID:28475-1682164800-1682175600@varsinaissuomenvihreat.fi
SUMMARY:Varsinais-Suomen vihreiden kevätkokous
DESCRIPTION:Piirin sääntömääräisessä kevätkokouksessa päätetään sääntömääräisistä ja puoluekokoukseen liittyvistä asioista. Kokouksen jälkeen vaaliraportin esittelyä ja poliittista keskustelua. 
URL:https://varsinaissuomenvihreat.fi/tapahtuma/varsinais-suomen-vihreiden-kevatkokous/
LOCATION:Pääkirjaston Studio-tila\, Linnankatu 2\, Turku\, 20100\, Suomi
END:VEVENT
BEGIN:VEVENT
DTSTART;TZID=Europe/Helsinki:20230319T110000
DTEND;TZID=Europe/Helsinki:20230319T130000
DTSTAMP:20260424T230232
CREATED:20230314T151309Z
LAST-MODIFIED:20230314T151309Z
UID:28450-1679223600-1679230800@varsinaissuomenvihreat.fi
SUMMARY:Ehdokkaita tavattavissa Runosmäessä
DESCRIPTION:Eduskuntavaaliehdokkaita tavattavissa Runosmäen kevätkekkereillä klo 11-13.
URL:https://varsinaissuomenvihreat.fi/tapahtuma/ehdokkaita-tavattavissa-runosmaessa/
LOCATION:Runosmäen nuorisotalo\, Piiparinpolku 13\, Turku\, 20360\, Suomi
ORGANIZER;CN="Turun vihre%C3%A4t":MAILTO:https://www.vihreaturku.fi/
END:VEVENT
BEGIN:VEVENT
DTSTART;TZID=Europe/Helsinki:20230318T110000
DTEND;TZID=Europe/Helsinki:20230318T130000
DTSTAMP:20260424T230232
CREATED:20230314T150718Z
LAST-MODIFIED:20230314T150802Z
UID:28447-1679137200-1679144400@varsinaissuomenvihreat.fi
SUMMARY:Ehdokkaita tavattavissa Maskussa
DESCRIPTION:Eduskuntavaaliehdokkaita tavattavissa Maskussa K-supermarketilta klo 11-13
URL:https://varsinaissuomenvihreat.fi/tapahtuma/telttailua-maskussa/
END:VEVENT
BEGIN:VEVENT
DTSTART;VALUE=DATE:20230318
DTEND;VALUE=DATE:20230402
DTSTAMP:20260424T230232
CREATED:20230216T083527Z
LAST-MODIFIED:20230216T083527Z
UID:28351-1679097600-1680393599@varsinaissuomenvihreat.fi
SUMMARY:Vaalimökki Turun kauppatorilla
DESCRIPTION:Vaalimökki on avoinna joka päivä kello 10–18
URL:https://varsinaissuomenvihreat.fi/tapahtuma/vaalimokki-turun-kauppatorilla/
LOCATION:Turun kauppatori\, Kauppatori\, Turku\, 20100
END:VEVENT
BEGIN:VEVENT
DTSTART;TZID=Europe/Helsinki:20230317T110000
DTEND;TZID=Europe/Helsinki:20230317T130000
DTSTAMP:20260424T230232
CREATED:20230216T083349Z
LAST-MODIFIED:20230307T165012Z
UID:28348-1679050800-1679058000@varsinaissuomenvihreat.fi
SUMMARY:Vihreiden vaalipaneeli: Elämää ja ympäristöä suojeleva Varsinais-Suomi
DESCRIPTION:Varsinais-Suomen vihreät järjestää vaalipaneelin seuraavan vaalikauden keskeisimmistä teemoista otsikolla “Elämää ja ympäristöä suojeleva Varsinais-Suomi” perjantaina 17.3. klo 11 Forum Marinumissa. \nLisätietoja tulossa.
URL:https://varsinaissuomenvihreat.fi/tapahtuma/vihreiden-vaalipaneeli/
LOCATION:Forum Marinum\, Linnankatu 72\, Turku\, Suomi
CATEGORIES:Paneelitilaisuudet
END:VEVENT
BEGIN:VEVENT
DTSTART;TZID=Europe/Helsinki:20230316T180000
DTEND;TZID=Europe/Helsinki:20230316T200000
DTSTAMP:20260424T230232
CREATED:20230216T083243Z
LAST-MODIFIED:20230216T083243Z
UID:28346-1678989600-1678996800@varsinaissuomenvihreat.fi
SUMMARY:Rauli Mickelsson: Elinympäristön muutos puolueiden eduskuntavaaliohjelmissa
DESCRIPTION:Osa ”Vihreä siirtymä: Elinympäristömme muuttuu\, mitä voimme tehdä?” -tapahtumasarjaa.
URL:https://varsinaissuomenvihreat.fi/tapahtuma/rauli-mickelsson-elinympariston-muutos-puolueiden-eduskuntavaaliohjelmissa/
LOCATION:Panimoravintola Koulun historianluoka\, Eerikinkatu 18\, Turku\, 20100\, Suomi
CATEGORIES:Keskustelutapahtumat
ORGANIZER;CN="Turun vihre%C3%A4t":MAILTO:https://www.vihreaturku.fi/
END:VEVENT
BEGIN:VEVENT
DTSTART;TZID=Europe/Helsinki:20230316T170000
DTEND;TZID=Europe/Helsinki:20230316T190000
DTSTAMP:20260424T230232
CREATED:20230314T150422Z
LAST-MODIFIED:20230314T150449Z
UID:28444-1678986000-1678993200@varsinaissuomenvihreat.fi
SUMMARY:Tieteen ja teknologian tulevaisuus Varsinais-Suomessa
DESCRIPTION:Varsinais-Suomen tieteen ja teknlogian vihreät  järjestää pe 17.3. klo 17-19 Panimoravintola koulussa eduskuntavaalitapahtuman ”Tieteen ja teknologian tulevaisuus Varsinais-Suomessa”.\n\n\nJukka Westermarck pitää tapahtumassa alustuksen Tutkimus-\, kehitys- ja innovaatiorahoituksen uudistuksesta tutkijan näkökulmasta. Alustuksen jälkeen hän osallistuu keskusteluun eduskuntavaaliehdokkaiden ja yleisön kanssa. Jukka Westermarck on Turun biotiedekeskuksen tutkimusjohtaja ja Turun yliopiston syöpäbiologian professori.\n\n\nVarsViitteen omista eduskuntavaaliehdokkaista paikalla ovat mm. Essi Lindberg\, Theresia Bilola\, Aliisa Wahlsten\, Rami Käkönen\, Sofia Virta ja Riina Lumme.\n\n\n\nToivomme ilmoittautumista tarjoilujen (vegaaninen kasvistortilla ja jäävesi) riittävyyden varmistamiseksi\, mutta paikalle voi tulla myös ilmoittautumatta ja Koulun alakerrasta voi ostaa haluamaansa syötävää ja juotavaa omakustanteisesti.\n\n\nTapahtuma on Panimoravintola Koulun Wilhemina-sali yläkerrassa\, Eerikinkatu 18\, Turku.\n\nhttps://docs.google.com/forms/d/e/1FAIpQLSdNTzlKJLnMpsJeYK1eNT24Pu02AfUC4AqtGU6DW-HQJuBNUg/viewform?fbclid=IwAR3rF_451VrM_3ANQ3nZpO_xjrUWotWwXaGCxsrSfuf54JEsidA3uGKlu74\n\n\n\nTervetuloa!
URL:https://varsinaissuomenvihreat.fi/tapahtuma/tieteen-ja-teknologian-tulevaisuus-varsinais-suomessa/
ORGANIZER;CN="Varsinais-Suomen tieteen ja teknlogian vihre%C3%A4t":MAILTO:marjaana.makinen@vihreat.fi
END:VEVENT
BEGIN:VEVENT
DTSTART;TZID=Europe/Helsinki:20230316T170000
DTEND;TZID=Europe/Helsinki:20230316T190000
DTSTAMP:20260424T230232
CREATED:20230314T145548Z
LAST-MODIFIED:20230314T145548Z
UID:28441-1678986000-1678993200@varsinaissuomenvihreat.fi
SUMMARY:Loimaan Vihreät: "Sinun ruokasi ei ole sinun - Ruokakeskustelua ennen ja nyt"
DESCRIPTION:Tervetuloa Loimaan Seudun Vihreiden vaalitilaisuuteen\ntorstaina 16.3. klo 17-19 Suomen maatalousmuseo Sarassa. Ensin saamme opastuksen uuteen näyttelyyn ”Sinun ruokasi ei ole sinun – Ruokakeskustelua ennen ja nyt”. Sen jälkeen keskustelemme teemasta eduskuntavaaliehdokkaiden kanssa.\nVapaa pääsy ja kahvitarjoilu.
URL:https://varsinaissuomenvihreat.fi/tapahtuma/loimaan-vihreat-sinun-ruokasi-ei-ole-sinun-ruokakeskustelua-ennen-ja-nyt/
LOCATION:Suomen maatalousmuseo Sarka\, Vanhankirkontie 383\, Loimaa\, 32200
END:VEVENT
BEGIN:VEVENT
DTSTART;TZID=Europe/Helsinki:20230315T140000
DTEND;TZID=Europe/Helsinki:20230315T193000
DTSTAMP:20260424T230232
CREATED:20230314T145111Z
LAST-MODIFIED:20230314T145111Z
UID:28438-1678888800-1678908600@varsinaissuomenvihreat.fi
SUMMARY:Pekka Haavisto Varsinais-Suomessa
DESCRIPTION:Pekka Haavistoa sekä eduskuntavaaliehdokkaitamme pääset tapaamaan seuraavissa tilaisuuksissa päivän aikana: \nPekka Haavisto ja ehdokkaita tavattavissa\nK-supermarket Raisio Center klo 14-16 \nPekka Haavisto ja Sofia Virta: Minkälaista Suomea me haluamme rakentaa?\nBar Ö klo 16.30 \nPekka Haavisto ja ehdokkaita tavattavissa\nTuomiokirkkotori klo 17.30-18.30 \nFred\, framtid och Finland i Nato -keskustelu\nÅbo akademi Argentum klo 18.30-19.30
URL:https://varsinaissuomenvihreat.fi/tapahtuma/pekka-haavisto-varsinais-suomessa/
LOCATION:Varsinais-Suomi\, Suomi
END:VEVENT
BEGIN:VEVENT
DTSTART;TZID=Europe/Helsinki:20230311T130000
DTEND;TZID=Europe/Helsinki:20230311T150000
DTSTAMP:20260424T230232
CREATED:20230307T165322Z
LAST-MODIFIED:20230307T170421Z
UID:28424-1678539600-1678546800@varsinaissuomenvihreat.fi
SUMMARY:Hyvinvointialue on käynnistynyt\, mitä nyt?
DESCRIPTION:Hyvinvointialue on käynnistynyt\, mitä nyt?\nVarsinais-Suomen vihreiden aluevaltuutettujen keskustelutilaisuus\nlauantaina 11.3.2023 klo 13.00–15.00\nTurun pääkirjaston Studiossa\, Linnankatu 2\, Turku\n\nTule keskustelemaan ja kuulemaan ajankohtaiset kuulumiset ja vihreät näkemykset hyvinvointialueen käynnistymisestä ja sen nykyisistä ja tulevista haasteista. Kahvitarjoilu.\n\nMukana vihreiden aluevaltuustoryhmästä: Heidi Aaltonen\, Janina Andersson\, Elina Rantanen\, Konsta Nylander\, Janna-Riia Koivu\, Essi Lindberg\, Aliisa Wahlsten\, Riina Lumme\, Hanna Erjanti ja Sofia Virta.
URL:https://varsinaissuomenvihreat.fi/tapahtuma/hyvinvointialue-on-kaynnistynyt-mita-nyt/
LOCATION:Pääkirjaston Studio-tila\, Linnankatu 2\, Turku\, 20100\, Suomi
CATEGORIES:Keskustelutapahtumat
END:VEVENT
BEGIN:VEVENT
DTSTART;TZID=Europe/Helsinki:20230311T110000
DTEND;TZID=Europe/Helsinki:20230311T130000
DTSTAMP:20260424T230232
CREATED:20230307T170301Z
LAST-MODIFIED:20230307T170301Z
UID:28435-1678532400-1678539600@varsinaissuomenvihreat.fi
SUMMARY:Vihreät jokirannassa
DESCRIPTION:Eduskuntavaaliehdokkaita tavattavissa Turun jokirannassa!
URL:https://varsinaissuomenvihreat.fi/tapahtuma/vihreat-jokirannassa/
ORGANIZER;CN="Turun vihre%C3%A4t":MAILTO:https://www.vihreaturku.fi/
END:VEVENT
BEGIN:VEVENT
DTSTART;TZID=Europe/Helsinki:20230311T100000
DTEND;TZID=Europe/Helsinki:20230311T120000
DTSTAMP:20260424T230232
CREATED:20230307T165931Z
LAST-MODIFIED:20230307T170119Z
UID:28430-1678528800-1678536000@varsinaissuomenvihreat.fi
SUMMARY:Vihreät Salossa
DESCRIPTION:Eduskuntavaaliehdokkaita tavattavissa Salossa Halikon prismalla!
URL:https://varsinaissuomenvihreat.fi/tapahtuma/vihreat-salossa/
LOCATION:Prisma Halikko\, Prismantie 2\, Halikko\, Salo
END:VEVENT
BEGIN:VEVENT
DTSTART;TZID=Europe/Helsinki:20230311T090000
DTEND;TZID=Europe/Helsinki:20230311T150000
DTSTAMP:20260424T230232
CREATED:20230307T165723Z
LAST-MODIFIED:20230307T165723Z
UID:28427-1678525200-1678546800@varsinaissuomenvihreat.fi
SUMMARY:Vihreät Auran markkinoilla
DESCRIPTION:Vihreitä eduskuntavaaliehdokkaita tavattavissa!
URL:https://varsinaissuomenvihreat.fi/tapahtuma/vihreat-auran-markkinoilla/
LOCATION:Auran OP-areena\, Urpontie 2\, Aura\, Suomi
END:VEVENT
BEGIN:VEVENT
DTSTART;TZID=Europe/Helsinki:20230309T180000
DTEND;TZID=Europe/Helsinki:20230309T200000
DTSTAMP:20260424T230232
CREATED:20230216T083131Z
LAST-MODIFIED:20230216T083131Z
UID:28344-1678384800-1678392000@varsinaissuomenvihreat.fi
SUMMARY:Katariina Kulha: Osallistuva demokratia ilmastokriisin ratkaisijana
DESCRIPTION:Osa ”Vihreä siirtymä: Elinympäristömme muuttuu\, mitä voimme tehdä?” -tapahtumasarjaa. Järjestäjä Turun vihreät ry
URL:https://varsinaissuomenvihreat.fi/tapahtuma/katariina-kulha-osallistuva-demokratia-ilmastokriisin-ratkaisijana/
LOCATION:Panimoravintola Koulun historianluoka\, Eerikinkatu 18\, Turku\, 20100\, Suomi
CATEGORIES:Keskustelutapahtumat
ORGANIZER;CN="Turun vihre%C3%A4t":MAILTO:https://www.vihreaturku.fi/
END:VEVENT
BEGIN:VEVENT
DTSTART;TZID=Europe/Helsinki:20230301T173000
DTEND;TZID=Europe/Helsinki:20230301T183000
DTSTAMP:20260424T230232
CREATED:20230216T082901Z
LAST-MODIFIED:20230216T082901Z
UID:28341-1677691800-1677695400@varsinaissuomenvihreat.fi
SUMMARY:Turvallisuus Suomessa
DESCRIPTION:Keskustelutilaisuus aiheesta Turvallisuus Suomessa\, mukana mm. Krista Mikkonen ja Sofia Virta.
URL:https://varsinaissuomenvihreat.fi/tapahtuma/turvallisuus-suomessa/
LOCATION:Pääkirjaston Studio-tila\, Linnankatu 2\, Turku\, 20100\, Suomi
CATEGORIES:Keskustelutapahtumat,Vierailut
END:VEVENT
BEGIN:VEVENT
DTSTART;VALUE=DATE:20230228
DTEND;VALUE=DATE:20230301
DTSTAMP:20260424T230232
CREATED:20230216T082733Z
LAST-MODIFIED:20230216T082733Z
UID:28339-1677542400-1677628799@varsinaissuomenvihreat.fi
SUMMARY:Krista Mikkonen Uudessakaupungissa
DESCRIPTION:
URL:https://varsinaissuomenvihreat.fi/tapahtuma/krista-mikkonen-uudessakaupungissa/
CATEGORIES:Vierailut
END:VEVENT
BEGIN:VEVENT
DTSTART;TZID=Europe/Helsinki:20230222T180000
DTEND;TZID=Europe/Helsinki:20230222T200000
DTSTAMP:20260424T230232
CREATED:20230216T082320Z
LAST-MODIFIED:20230216T082320Z
UID:28332-1677088800-1677096000@varsinaissuomenvihreat.fi
SUMMARY:Ville Niinistö: EU ja eurooppalaiset ratkaisut ilmastokriisiin ja luontokatoon
DESCRIPTION:Osa ”Vihreä siirtymä: Elinympäristömme muuttuu\, mitä voimme tehdä?” -tapahtumasarjaa. Järjestäjä Turun vihreät ry
URL:https://varsinaissuomenvihreat.fi/tapahtuma/ville-niinisto-eu-ja-eurooppalaiset-ratkaisut-ilmastokriisiin-ja-luontokatoon/
LOCATION:Panimoravintola Koulun historianluoka\, Eerikinkatu 18\, Turku\, 20100\, Suomi
CATEGORIES:Keskustelutapahtumat,Vierailut
ORGANIZER;CN="Turun vihre%C3%A4t":MAILTO:https://www.vihreaturku.fi/
END:VEVENT
BEGIN:VEVENT
DTSTART;TZID=Europe/Helsinki:20230219T140000
DTEND;TZID=Europe/Helsinki:20230219T160000
DTSTAMP:20260424T230232
CREATED:20230216T082507Z
LAST-MODIFIED:20230216T082526Z
UID:28335-1676815200-1676822400@varsinaissuomenvihreat.fi
SUMMARY:Raision laskiaisrieha
DESCRIPTION:
URL:https://varsinaissuomenvihreat.fi/tapahtuma/raision-laskiaisrieha/
LOCATION:Kerrolanpuiston leikkipaikka\, Raikulanpolku\, Raisio\, 21200\, Suomi
CATEGORIES:Ulkoilutapahtumat
END:VEVENT
END:VCALENDAR